BEGIN:VCALENDAR
VERSION:2.0
PRODID:-//Broken Walls - ECPv6.0.5//NONSGML v1.0//EN
CALSCALE:GREGORIAN
METHOD:PUBLISH
X-ORIGINAL-URL:https://brokenwalls.com
X-WR-CALDESC:Events for Broken Walls
REFRESH-INTERVAL;VALUE=DURATION:PT1H
X-Robots-Tag:noindex
X-PUBLISHED-TTL:PT1H
BEGIN:VTIMEZONE
TZID:America/Toronto
BEGIN:DAYLIGHT
TZOFFSETFROM:-0500
TZOFFSETTO:-0400
TZNAME:EDT
DTSTART:20240310T070000
END:DAYLIGHT
BEGIN:STANDARD
TZOFFSETFROM:-0400
TZOFFSETTO:-0500
TZNAME:EST
DTSTART:20241103T060000
END:STANDARD
END:VTIMEZONE
BEGIN:VEVENT
DTSTART;TZID=America/Toronto:20241007T000000
DTEND;TZID=America/Toronto:20241007T235959
DTSTAMP:20260423T131406
CREATED:20240618T102457Z
LAST-MODIFIED:20240618T165545Z
UID:10000081-1728259200-1728345599@brokenwalls.com
SUMMARY:Jonathan in Concert @ United Bible Societies Fellowship - Toronto\, ON
DESCRIPTION:Jonathan will be ministering through stories and songs as part of the United Bible Societies Fellowship event in Toronto. \n\n\n\nMore info to come.
URL:https://brokenwalls.com/calendar/jonathan-in-concert-canadian-bible-society-markham-on/
LOCATION:Toronto Hilton Suites & Conference Centre\, 8500 Warden Ave.\, Markham\, ON\, L6G 1A5\, Canada
ATTACH;FMTTYPE=image/jpeg:https://brokenwalls.com/wp-content/uploads/2023/11/Screenshot_20201124-062726_Dropbox.jpg
END:VEVENT
END:VCALENDAR