BEGIN:VCALENDAR
VERSION:2.0
PRODID:-//Broken Walls - ECPv6.0.5//NONSGML v1.0//EN
CALSCALE:GREGORIAN
METHOD:PUBLISH
X-ORIGINAL-URL:https://brokenwalls.com
X-WR-CALDESC:Events for Broken Walls
REFRESH-INTERVAL;VALUE=DURATION:PT1H
X-Robots-Tag:noindex
X-PUBLISHED-TTL:PT1H
BEGIN:VTIMEZONE
TZID:America/Toronto
BEGIN:DAYLIGHT
TZOFFSETFROM:-0500
TZOFFSETTO:-0400
TZNAME:EDT
DTSTART:20240310T070000
END:DAYLIGHT
BEGIN:STANDARD
TZOFFSETFROM:-0400
TZOFFSETTO:-0500
TZNAME:EST
DTSTART:20241103T060000
END:STANDARD
BEGIN:DAYLIGHT
TZOFFSETFROM:-0500
TZOFFSETTO:-0400
TZNAME:EDT
DTSTART:20250309T070000
END:DAYLIGHT
BEGIN:STANDARD
TZOFFSETFROM:-0400
TZOFFSETTO:-0500
TZNAME:EST
DTSTART:20251102T060000
END:STANDARD
END:VTIMEZONE
BEGIN:VEVENT
DTSTART;TZID=America/Toronto:20240927T183000
DTEND;TZID=America/Toronto:20240927T210000
DTSTAMP:20260424T020446
CREATED:20240910T113628Z
LAST-MODIFIED:20240910T120153Z
UID:10000087-1727461800-1727470800@brokenwalls.com
SUMMARY:Broken Walls in Concert - Niverville\, MB
DESCRIPTION:In honour of the National Day for Truth and Reconciliation Broken Walls will be playing a free concert at Niverville Community Fellowship. Sponsored by Canada Awakening Ministries.
URL:https://brokenwalls.com/calendar/broken-walls-in-concert-niverville-mb/
LOCATION:Niverville Community Fellowship\, 85-2nd Street South\, Niverville\, MB\, Canada
ATTACH;FMTTYPE=image/jpeg:https://brokenwalls.com/wp-content/uploads/2024/09/Winnipeg-Sept2024.jpg
END:VEVENT
BEGIN:VEVENT
DTSTART;TZID=America/Toronto:20250930T190000
DTEND;TZID=America/Toronto:20250930T210000
DTSTAMP:20260424T020446
CREATED:20250909T152820Z
LAST-MODIFIED:20250909T153920Z
UID:10000124-1759258800-1759266000@brokenwalls.com
SUMMARY:Broken Walls in Concert – Niverville\, MB
DESCRIPTION:In honour of the National Day for Truth and Reconciliation – – and in anticipation of the 30th Anniversary of the Sacred Assembly event coming later this year – – Broken Walls will be playing a free concert at Niverville Community Fellowship. Sponsored by Canada Awakening Ministries.
URL:https://brokenwalls.com/calendar/broken-walls-in-concert-niverville-mb-2/
LOCATION:Niverville Community Fellowship\, 85-2nd Street South\, Niverville\, MB\, Canada
ATTACH;FMTTYPE=image/jpeg:https://brokenwalls.com/wp-content/uploads/2025/09/niverville.jpg
END:VEVENT
END:VCALENDAR