BEGIN:VCALENDAR
VERSION:2.0
PRODID:-//Broken Walls - ECPv6.0.5//NONSGML v1.0//EN
CALSCALE:GREGORIAN
METHOD:PUBLISH
X-ORIGINAL-URL:https://brokenwalls.com
X-WR-CALDESC:Events for Broken Walls
REFRESH-INTERVAL;VALUE=DURATION:PT1H
X-Robots-Tag:noindex
X-PUBLISHED-TTL:PT1H
BEGIN:VTIMEZONE
TZID:America/Toronto
BEGIN:DAYLIGHT
TZOFFSETFROM:-0500
TZOFFSETTO:-0400
TZNAME:EDT
DTSTART:20240310T070000
END:DAYLIGHT
BEGIN:STANDARD
TZOFFSETFROM:-0400
TZOFFSETTO:-0500
TZNAME:EST
DTSTART:20241103T060000
END:STANDARD
END:VTIMEZONE
BEGIN:VEVENT
DTSTART;TZID=America/Toronto:20241108T190000
DTEND;TZID=America/Toronto:20241108T210000
DTSTAMP:20260423T195904
CREATED:20241023T132901Z
LAST-MODIFIED:20241023T132957Z
UID:10000092-1731092400-1731099600@brokenwalls.com
SUMMARY:Broken Walls SouthWest Tour - Bloomfield\, NM
DESCRIPTION:Join the Broken Walls team for an evening of stories and songs\, hosted by Navajo Brethren in Christ Mission. More details to come.
URL:https://brokenwalls.com/calendar/broken-walls-southwest-tour-bloomfield-nm/
LOCATION:Navajo Brethren in Christ Mission\, 240 Hwy 57\, Bloomfield\, New Mexico\, 87413\, United States
ATTACH;FMTTYPE=image/jpeg:https://brokenwalls.com/wp-content/uploads/2024/01/Band-Photo.jpg
END:VEVENT
END:VCALENDAR